BEGIN:VCALENDAR
VERSION:2.0
PRODID:-//Hospizdienst - ECPv6.15.17.1//NONSGML v1.0//EN
CALSCALE:GREGORIAN
METHOD:PUBLISH
X-WR-CALNAME:Hospizdienst
X-ORIGINAL-URL:https://www.hospizdienst-wuppertal.de
X-WR-CALDESC:Veranstaltungen für Hospizdienst
REFRESH-INTERVAL;VALUE=DURATION:PT1H
X-Robots-Tag:noindex
X-PUBLISHED-TTL:PT1H
BEGIN:VTIMEZONE
TZID:Europe/Berlin
BEGIN:DAYLIGHT
TZOFFSETFROM:+0100
TZOFFSETTO:+0200
TZNAME:CEST
DTSTART:20240331T010000
END:DAYLIGHT
BEGIN:STANDARD
TZOFFSETFROM:+0200
TZOFFSETTO:+0100
TZNAME:CET
DTSTART:20241027T010000
END:STANDARD
BEGIN:DAYLIGHT
TZOFFSETFROM:+0100
TZOFFSETTO:+0200
TZNAME:CEST
DTSTART:20250330T010000
END:DAYLIGHT
BEGIN:STANDARD
TZOFFSETFROM:+0200
TZOFFSETTO:+0100
TZNAME:CET
DTSTART:20251026T010000
END:STANDARD
BEGIN:DAYLIGHT
TZOFFSETFROM:+0100
TZOFFSETTO:+0200
TZNAME:CEST
DTSTART:20260329T010000
END:DAYLIGHT
BEGIN:STANDARD
TZOFFSETFROM:+0200
TZOFFSETTO:+0100
TZNAME:CET
DTSTART:20261025T010000
END:STANDARD
BEGIN:DAYLIGHT
TZOFFSETFROM:+0100
TZOFFSETTO:+0200
TZNAME:CEST
DTSTART:20270328T010000
END:DAYLIGHT
BEGIN:STANDARD
TZOFFSETFROM:+0200
TZOFFSETTO:+0100
TZNAME:CET
DTSTART:20271031T010000
END:STANDARD
END:VTIMEZONE
BEGIN:VEVENT
DTSTART;TZID=Europe/Berlin:20260329T110000
DTEND;TZID=Europe/Berlin:20260329T130000
DTSTAMP:20260419T140958
CREATED:20241223T113859Z
LAST-MODIFIED:20260129T101353Z
UID:10000160-1774782000-1774789200@www.hospizdienst-wuppertal.de
SUMMARY:Verflochtene Linien | Südstadt Matinée
DESCRIPTION:Chinesische Kalligraphie und improvisierte Klänge\nChun-Hsien Wu\, Pinsel und Klangschalen\nUlrike Nahmmacher\, Geige \nWir folgen den verflochtenen Linien von chinesischer Kalligraphie und Klängen von Geige und Klangschale…Improvisierend und erläuternd nähern wir uns der fernöstlichen Schrift\, deren »Schönschreiben« bis heute einen hohen Stellenwert im gesellschaftlichen und künstlerischen Leben hat und als Kunstrichtung wie Malerei angesehen wird. Dabei geht es also nicht nur um die Lesbarkeit eines Textes oder Wortes\, sondern auch um Emotionen\, in ästhetischer Ausgewogenheit. \nDazu kommen hier Improvisationen mit Geige\, auch in Wechselwirkungen\, sodass sich die Linien verflechten…\n»Die Ruhe dieser Arbeit erfüllt das ganze Wesen mit einer umfassenden Zufriedenheit\, wo Zeit und Raum\, für kurze Zeit wie weggewischt\, uns nicht mehr kümmern noch belasten« (Andreas Schenk) \nJede*r ist willkommen. Das Angebot ist kostenfrei. \n  \nAUSBLICK AUF 2026\nDas NetzwerkCafé öffnet 2026 schon im dritten Jahr seine Türen – für die Kultur\, für die Nachbarschaft. Egal ob von diesseits oder jenseits der Blankstraße\, ob alt oder jung: Sie sind herzlich zu unserer »Südstadt Matinée« eingeladen. Das ausgewählte Programm wechselt und ist bunt – so wie die Nachbarschaft. Gemeinsam hören wir Musik\, lassen uns eine Geschichte erzählen oder schauen einen Film. Dazu gibt es Häppchen\, Getränke und Zeit zum Plaudern mit unseren Nachbar*innen. Wir freuen uns auf Sie.
URL:https://www.hospizdienst-wuppertal.de/kalender/jan-roettger-suedstadt-matinee/
LOCATION:NetzwerkCafé | Hospizdienst Die Pusteblume\, Blankstraße / Ecke Augustastraße\, Wuppertal\, Nordrhein-Westfalen\, 42119\, Germany
CATEGORIES:Arbeitskreis Netzwerk Südstadt,Veranstaltungen
ATTACH;FMTTYPE=image/jpeg:https://www.hospizdienst-wuppertal.de/wp-content/uploads/2024/12/Matinee_03.2026.jpg
END:VEVENT
BEGIN:VEVENT
DTSTART;TZID=Europe/Berlin:20250928T110000
DTEND;TZID=Europe/Berlin:20250928T140000
DTSTAMP:20260419T140958
CREATED:20241223T113104Z
LAST-MODIFIED:20250226T143316Z
UID:10000159-1759057200-1759068000@www.hospizdienst-wuppertal.de
SUMMARY:»Geschichten\, die das Leben schreibt« | Südstadt Matinée
DESCRIPTION:Geschichten\, die das Leben schreibt\nDie Schreibwerkstatt der Börse liest vor \nMit musikalischer Begleitung \n  \nDie Schreibwerkstatt der börse liest vor: Erlebtes und Erdachtes über das Leben in Form von Prosa\, Gedichten und Rondellen\nDie Schreibwerkstatt wurde 2021 von Karin Böke und Lothar Jessen im Rahmen des Stadtteilschreiberprojektes an der börse ins Leben gerufen. Seitdem treffen sich die Teilnehmer:innen regelmäßig\, um über diverse Themen\, die sie bewegen\, zu schreiben und sich darüber auszutauschen. Die Liebe zum geschriebenen Wort in seiner unendlichen Vielfalt vereint sie. \nDas NetzwerkCafé öffnet nun schon im zweiten Jahr seine Türen – für Kultur\, für die Nachbarschaft. Egal ob von diesseits oder jenseits der Blankstraße\, ob alt oder jung: Sie sind herzlich zu unserer »Südstadt Matinée« eingeladen. Das ausgewählte Programm wechselt und ist bunt – so wie die Nachbarschaft. Dazu gibt es Häppchen\, Getränke und Zeit zum Plaudern mit den Nachbar*innen. Wir freuen uns auf Sie! \nEintritt frei
URL:https://www.hospizdienst-wuppertal.de/kalender/geschichten-die-das-leben-schreibt-suedstadt-matinee/
LOCATION:NetzwerkCafé | Hospizdienst Die Pusteblume\, Blankstraße / Ecke Augustastraße\, Wuppertal\, Nordrhein-Westfalen\, 42119\, Germany
CATEGORIES:Arbeitskreis Netzwerk Südstadt,Veranstaltungen
ATTACH;FMTTYPE=image/jpeg:https://www.hospizdienst-wuppertal.de/wp-content/uploads/2024/12/Veranstaltungen-Kultur-2025-03.jpg
END:VEVENT
BEGIN:VEVENT
DTSTART;TZID=Europe/Berlin:20250615T110000
DTEND;TZID=Europe/Berlin:20250615T140000
DTSTAMP:20260419T140958
CREATED:20241223T112709Z
LAST-MODIFIED:20250313T081514Z
UID:10000158-1749985200-1749996000@www.hospizdienst-wuppertal.de
SUMMARY:»Gehört das so??!« | Südstadt Matinée
DESCRIPTION:Gehört das so??!\nSchnipsel-Kino für alle ab 5 Jahren \nEine ganz besondere Art der Buchpräsentation in Bild\, Musik und Sprache \n  \nGehört das so??!\nEin Bilderbuch von Peter Schössow – präsentiert vom Schnipsel-Kino.\nEine Geschichte vom Abschiednehmen\, vom Traurigsein und von Freundschaft\, skurril und doch voller Poesie. \nDie Kleine mit der viel zu großen Lacklederhandtasche meckert die Leute an.\nUnd wenn sie einen Grund für schlechte Laune hätte? Und der Grund hieße Elvis?\nNicht der Elvis\, sondern ihr Kanarienvogel\, der so schön singen konnte. Das wäre natürlich ganz was anderes. \nBegleitet von Musik: Querflöte (Sophie Kromberg)\, Gitarre (Jürgen Blaß)\nentstehen auf der Leinwand nach und nach Bilder.\nDie Geschichte dazu erzählen Sandra Büschel und Heiner Waniek. \nDas NetzwerkCafé öffnet nun schon im zweiten Jahr seine Türen – für Kultur\, für die Nachbarschaft. Egal ob von diesseits oder jenseits der Blankstraße\, ob alt oder jung: Sie sind herzlich zu unserer »Südstadt Matinée« eingeladen. Das ausgewählte Programm wechselt und ist bunt – so wie die Nachbarschaft. Dazu gibt es Häppchen\, Getränke und Zeit zum Plaudern mit den Nachbar*innen. Wir freuen uns auf Sie! \n  \nEintritt frei
URL:https://www.hospizdienst-wuppertal.de/kalender/ghoert-das-so-suedstadt-matinee/
LOCATION:NetzwerkCafé | Hospizdienst Die Pusteblume\, Blankstraße / Ecke Augustastraße\, Wuppertal\, Nordrhein-Westfalen\, 42119\, Germany
CATEGORIES:Arbeitskreis Netzwerk Südstadt,Veranstaltungen
ATTACH;FMTTYPE=image/jpeg:https://www.hospizdienst-wuppertal.de/wp-content/uploads/2024/12/Veranstaltungen-Kultur-2025-02.jpg
END:VEVENT
END:VCALENDAR