BEGIN:VCALENDAR
VERSION:2.0
PRODID:-//Hospizdienst - ECPv6.15.17.1//NONSGML v1.0//EN
CALSCALE:GREGORIAN
METHOD:PUBLISH
X-WR-CALNAME:Hospizdienst
X-ORIGINAL-URL:https://www.hospizdienst-wuppertal.de
X-WR-CALDESC:Veranstaltungen für Hospizdienst
REFRESH-INTERVAL;VALUE=DURATION:PT1H
X-Robots-Tag:noindex
X-PUBLISHED-TTL:PT1H
BEGIN:VTIMEZONE
TZID:Europe/Berlin
BEGIN:DAYLIGHT
TZOFFSETFROM:+0100
TZOFFSETTO:+0200
TZNAME:CEST
DTSTART:20250330T010000
END:DAYLIGHT
BEGIN:STANDARD
TZOFFSETFROM:+0200
TZOFFSETTO:+0100
TZNAME:CET
DTSTART:20251026T010000
END:STANDARD
BEGIN:DAYLIGHT
TZOFFSETFROM:+0100
TZOFFSETTO:+0200
TZNAME:CEST
DTSTART:20260329T010000
END:DAYLIGHT
BEGIN:STANDARD
TZOFFSETFROM:+0200
TZOFFSETTO:+0100
TZNAME:CET
DTSTART:20261025T010000
END:STANDARD
BEGIN:DAYLIGHT
TZOFFSETFROM:+0100
TZOFFSETTO:+0200
TZNAME:CEST
DTSTART:20270328T010000
END:DAYLIGHT
BEGIN:STANDARD
TZOFFSETFROM:+0200
TZOFFSETTO:+0100
TZNAME:CET
DTSTART:20271031T010000
END:STANDARD
END:VTIMEZONE
BEGIN:VEVENT
DTSTART;TZID=Europe/Berlin:20260913T110000
DTEND;TZID=Europe/Berlin:20260913T140000
DTSTAMP:20260421T185358
CREATED:20260120T132408Z
LAST-MODIFIED:20260122T135224Z
UID:10000334-1789297200-1789308000@www.hospizdienst-wuppertal.de
SUMMARY:Zusammen is(s)t man weniger allein
DESCRIPTION:Ein Ihnen nahestehender Mensch ist gestorben. Sie suchen Gemeinschaft und Austausch? \nWir laden Sie herzlich ein\, jeden 2. Sonntag im Monat gemeinsam zu kochen\, zu essen und ins Gespräch zu kommen. \nAnmeldung: unter Telefon 0202 . 4305 124 oder per Mail hospizdienst@diakonie-wuppertal.de\nJede*r ist willkommen. Das Angebot ist kostenfrei. \nMit freundlicher Unterstützung von:
URL:https://www.hospizdienst-wuppertal.de/kalender/zusammen-isst-man-weniger-allein/2026-09-13/
LOCATION:NetzwerkCafé | Hospizdienst Die Pusteblume\, Blankstraße / Ecke Augustastraße\, Wuppertal\, Nordrhein-Westfalen\, 42119\, Germany
CATEGORIES:Treffen
ATTACH;FMTTYPE=image/jpeg:https://www.hospizdienst-wuppertal.de/wp-content/uploads/2026/01/Kalender_Motiv_zusammen-isst_2.jpg
ORGANIZER;CN="Hospizdienst Die Pusteblume":MAILTO:hospizdienst (at) diakonie-wuppertal.de
END:VEVENT
BEGIN:VEVENT
DTSTART;TZID=Europe/Berlin:20260914T160000
DTEND;TZID=Europe/Berlin:20260914T173000
DTSTAMP:20260421T185358
CREATED:20250829T133534Z
LAST-MODIFIED:20260420T105646Z
UID:10000263-1789401600-1789407000@www.hospizdienst-wuppertal.de
SUMMARY:Treffpunkt für Trauernde
DESCRIPTION:Ein offenes Angebot für trauernde Menschen. \nDer Treffpunkt für Trauernde ist ein Ort\, an dem Sie sich mit erfahrenen Trauerbegleiter*innen\nund anderen Betroffenen über Ihre Trauer austauschen können.\nHier ist in einem geschützten Raum Gelegenheit\, miteinander ins Gespräch zu kommen\, Informationen\nauszutauschen und neue Kontakte zu knüpfen. \nJede*r ist willkommen. Der Trauertreff wird durch Spenden finanziert und kostenfrei angeboten. \nAnmeldung unter:\n 0202 43 05 124\n hospizdienst (at) diakonie-wuppertal.de
URL:https://www.hospizdienst-wuppertal.de/kalender/treffpunkt-fuer-trauernde-3/2026-09-14/
LOCATION:NetzwerkCafé | Hospizdienst Die Pusteblume\, Blankstraße / Ecke Augustastraße\, Wuppertal\, Nordrhein-Westfalen\, 42119\, Germany
CATEGORIES:Trauerangebote,Treffen,Veranstaltungen
ATTACH;FMTTYPE=image/jpeg:https://www.hospizdienst-wuppertal.de/wp-content/uploads/2020/08/Geschlossene_Trauergruppe.jpg
ORGANIZER;CN="Hospizdienst Die Pusteblume":MAILTO:hospizdienst (at) diakonie-wuppertal.de
END:VEVENT
BEGIN:VEVENT
DTSTART;TZID=Europe/Berlin:20260927T110000
DTEND;TZID=Europe/Berlin:20260927T130000
DTSTAMP:20260421T185358
CREATED:20260122T124930Z
LAST-MODIFIED:20260129T100957Z
UID:10000345-1790506800-1790514000@www.hospizdienst-wuppertal.de
SUMMARY:Film ab! | Südstadt Matinée
DESCRIPTION:Mit Kurzfilmen über das Lebensende nachdenken\nFilmprojekte aus den Studiengängen Religionspädagogik & Soziale Arbeit der Hochschule Hannover \nJede*r ist willkommen. Das Angebot ist kostenfrei. \n  \nAUSBLICK AUF 2026\nDas NetzwerkCafé öffnet 2026 schon im dritten Jahr seine Türen – für die Kultur\, für die Nachbarschaft. Egal ob von diesseits oder jenseits der Blankstraße\, ob alt oder jung: Sie sind herzlich zu unserer »Südstadt Matinée« eingeladen. Das ausgewählte Programm wechselt und ist bunt – so wie die Nachbarschaft. Gemeinsam hören wir Musik\, lassen uns eine Geschichte erzählen oder schauen einen Film. Dazu gibt es Häppchen\, Getränke und Zeit zum Plaudern mit unseren Nachbar*innen. Wir freuen uns auf Sie.
URL:https://www.hospizdienst-wuppertal.de/kalender/film-ab-suedstadt-matinee/
LOCATION:NetzwerkCafé | Hospizdienst Die Pusteblume\, Blankstraße / Ecke Augustastraße\, Wuppertal\, Nordrhein-Westfalen\, 42119\, Germany
CATEGORIES:Arbeitskreis Netzwerk Südstadt,Veranstaltungen
ATTACH;FMTTYPE=image/jpeg:https://www.hospizdienst-wuppertal.de/wp-content/uploads/2026/01/Matinee_09.2026.jpg
END:VEVENT
END:VCALENDAR