BEGIN:VCALENDAR
VERSION:2.0
PRODID:-//Hospizdienst - ECPv6.15.17.1//NONSGML v1.0//EN
CALSCALE:GREGORIAN
METHOD:PUBLISH
X-WR-CALNAME:Hospizdienst
X-ORIGINAL-URL:https://www.hospizdienst-wuppertal.de
X-WR-CALDESC:Veranstaltungen für Hospizdienst
REFRESH-INTERVAL;VALUE=DURATION:PT1H
X-Robots-Tag:noindex
X-PUBLISHED-TTL:PT1H
BEGIN:VTIMEZONE
TZID:Europe/Berlin
BEGIN:DAYLIGHT
TZOFFSETFROM:+0100
TZOFFSETTO:+0200
TZNAME:CEST
DTSTART:20250330T010000
END:DAYLIGHT
BEGIN:STANDARD
TZOFFSETFROM:+0200
TZOFFSETTO:+0100
TZNAME:CET
DTSTART:20251026T010000
END:STANDARD
BEGIN:DAYLIGHT
TZOFFSETFROM:+0100
TZOFFSETTO:+0200
TZNAME:CEST
DTSTART:20260329T010000
END:DAYLIGHT
BEGIN:STANDARD
TZOFFSETFROM:+0200
TZOFFSETTO:+0100
TZNAME:CET
DTSTART:20261025T010000
END:STANDARD
BEGIN:DAYLIGHT
TZOFFSETFROM:+0100
TZOFFSETTO:+0200
TZNAME:CEST
DTSTART:20270328T010000
END:DAYLIGHT
BEGIN:STANDARD
TZOFFSETFROM:+0200
TZOFFSETTO:+0100
TZNAME:CET
DTSTART:20271031T010000
END:STANDARD
END:VTIMEZONE
BEGIN:VEVENT
DTSTART;TZID=Europe/Berlin:20260601T170000
DTEND;TZID=Europe/Berlin:20260601T210000
DTSTAMP:20260421T133521
CREATED:20260103T171507Z
LAST-MODIFIED:20260120T131246Z
UID:10000327-1780333200-1780347600@www.hospizdienst-wuppertal.de
SUMMARY:Letzte Hilfe-Kurs
DESCRIPTION:In diesem Kurs können Sie Grundkompetenzen zu folgenden Themen erwerben:\n·  Sterben als Teil des Lebens\n·  Vorsorgen und Entscheiden\n·  Leiden lindern \n·  Abschied nehmen\n \nIn Anlehnung an die Erste Hilfe-Kurse bietet der Hospizdienst »Die Pusteblume« Letzte Hilfe-Kurse an.\nIn dem 4-stündigen Seminar lernen Interessierte\, was sie für die ihnen Nahestehenden am Ende des Lebens tun können.\nDer Kurs soll ermutigen\, auf sterbende Angehörige\, Freund*innen oder Nachbar*innen offen und anteilnehmend zuzugehen. \nJede*r ist willkommen. Das Angebot ist kostenfrei. \nAnmeldung unter:\n 0202 43 05 124\n hospizdienst (at) diakonie-wuppertal.de
URL:https://www.hospizdienst-wuppertal.de/kalender/letzte-hilfe-kurs/2026-06-01/
LOCATION:NetzwerkCafé | Hospizdienst Die Pusteblume\, Blankstraße / Ecke Augustastraße\, Wuppertal\, Nordrhein-Westfalen\, 42119\, Germany
CATEGORIES:Infoveranstaltung,Veranstaltungen
ATTACH;FMTTYPE=image/jpeg:https://www.hospizdienst-wuppertal.de/wp-content/uploads/2020/08/Letzte_Hilfe_Kurs.jpg
END:VEVENT
BEGIN:VEVENT
DTSTART;TZID=Europe/Berlin:20260608T160000
DTEND;TZID=Europe/Berlin:20260608T173000
DTSTAMP:20260421T133521
CREATED:20250829T133534Z
LAST-MODIFIED:20260420T105646Z
UID:10000260-1780934400-1780939800@www.hospizdienst-wuppertal.de
SUMMARY:Treffpunkt für Trauernde
DESCRIPTION:Ein offenes Angebot für trauernde Menschen. \nDer Treffpunkt für Trauernde ist ein Ort\, an dem Sie sich mit erfahrenen Trauerbegleiter*innen\nund anderen Betroffenen über Ihre Trauer austauschen können.\nHier ist in einem geschützten Raum Gelegenheit\, miteinander ins Gespräch zu kommen\, Informationen\nauszutauschen und neue Kontakte zu knüpfen. \nJede*r ist willkommen. Der Trauertreff wird durch Spenden finanziert und kostenfrei angeboten. \nAnmeldung unter:\n 0202 43 05 124\n hospizdienst (at) diakonie-wuppertal.de
URL:https://www.hospizdienst-wuppertal.de/kalender/treffpunkt-fuer-trauernde-3/2026-06-08/
LOCATION:NetzwerkCafé | Hospizdienst Die Pusteblume\, Blankstraße / Ecke Augustastraße\, Wuppertal\, Nordrhein-Westfalen\, 42119\, Germany
CATEGORIES:Trauerangebote,Treffen,Veranstaltungen
ATTACH;FMTTYPE=image/jpeg:https://www.hospizdienst-wuppertal.de/wp-content/uploads/2020/08/Geschlossene_Trauergruppe.jpg
ORGANIZER;CN="Hospizdienst Die Pusteblume":MAILTO:hospizdienst (at) diakonie-wuppertal.de
END:VEVENT
BEGIN:VEVENT
DTSTART;TZID=Europe/Berlin:20260609T160000
DTEND;TZID=Europe/Berlin:20260609T180000
DTSTAMP:20260421T133521
CREATED:20260120T141646Z
LAST-MODIFIED:20260122T142927Z
UID:10000340-1781020800-1781028000@www.hospizdienst-wuppertal.de
SUMMARY:Boule für Trauernde
DESCRIPTION:In Zeiten der Trauer findet man manchmal nur schwer den Weg nach draußen an die frische Luft und unter andere Menschen.\nWir bieten einen »Schnupperkurs« Boule für Trauernde an\, in denen wir Ihnen die Grundlagen dieses französischen Sports erklären\, ganz viele Kugeln selber werfen und gemeinsam spielen. Es gibt dort Zeiten der Ruhe\, der Entspannung und Erholung\, Zeit der Freude und der Trauer. Kugeln zum Spielen sind ausreichend vorhanden. \nLeitung: Michael Teufel\, Trauerbegleiter\nTeilnehmerzahl: max. 12 | min. 6 \nAnmeldung: unter Telefon 0202 . 4305 124 oder per Mail hospizdienst@diakonie-wuppertal.de\nJede*r ist willkommen. Das Angebot ist kostenfrei.
URL:https://www.hospizdienst-wuppertal.de/kalender/boule-fuer-trauernde/2026-06-09/
LOCATION:Wuppertal Waldkampfbahn\, 42327 Wuppertal\, Vereinsgelände VSTV\, Waldkampfbahn 100\, Wuppertal\, Nordrhein-Westfalen\, 42327\, Germany
CATEGORIES:Trauerworkshop
ATTACH;FMTTYPE=image/jpeg:https://www.hospizdienst-wuppertal.de/wp-content/uploads/2026/01/Boule.jpg
ORGANIZER;CN="Hospizdienst Die Pusteblume":MAILTO:hospizdienst (at) diakonie-wuppertal.de
END:VEVENT
BEGIN:VEVENT
DTSTART;TZID=Europe/Berlin:20260614T110000
DTEND;TZID=Europe/Berlin:20260614T140000
DTSTAMP:20260421T133521
CREATED:20260120T132408Z
LAST-MODIFIED:20260122T135224Z
UID:10000332-1781434800-1781445600@www.hospizdienst-wuppertal.de
SUMMARY:Zusammen is(s)t man weniger allein
DESCRIPTION:Ein Ihnen nahestehender Mensch ist gestorben. Sie suchen Gemeinschaft und Austausch? \nWir laden Sie herzlich ein\, jeden 2. Sonntag im Monat gemeinsam zu kochen\, zu essen und ins Gespräch zu kommen. \nAnmeldung: unter Telefon 0202 . 4305 124 oder per Mail hospizdienst@diakonie-wuppertal.de\nJede*r ist willkommen. Das Angebot ist kostenfrei. \nMit freundlicher Unterstützung von:
URL:https://www.hospizdienst-wuppertal.de/kalender/zusammen-isst-man-weniger-allein/2026-06-14/
LOCATION:NetzwerkCafé | Hospizdienst Die Pusteblume\, Blankstraße / Ecke Augustastraße\, Wuppertal\, Nordrhein-Westfalen\, 42119\, Germany
CATEGORIES:Treffen
ATTACH;FMTTYPE=image/jpeg:https://www.hospizdienst-wuppertal.de/wp-content/uploads/2026/01/Kalender_Motiv_zusammen-isst_2.jpg
ORGANIZER;CN="Hospizdienst Die Pusteblume":MAILTO:hospizdienst (at) diakonie-wuppertal.de
END:VEVENT
BEGIN:VEVENT
DTSTART;TZID=Europe/Berlin:20260625T160000
DTEND;TZID=Europe/Berlin:20260625T180000
DTSTAMP:20260421T133521
CREATED:20260120T141646Z
LAST-MODIFIED:20260122T142927Z
UID:10000342-1782403200-1782410400@www.hospizdienst-wuppertal.de
SUMMARY:Boule für Trauernde
DESCRIPTION:In Zeiten der Trauer findet man manchmal nur schwer den Weg nach draußen an die frische Luft und unter andere Menschen.\nWir bieten einen »Schnupperkurs« Boule für Trauernde an\, in denen wir Ihnen die Grundlagen dieses französischen Sports erklären\, ganz viele Kugeln selber werfen und gemeinsam spielen. Es gibt dort Zeiten der Ruhe\, der Entspannung und Erholung\, Zeit der Freude und der Trauer. Kugeln zum Spielen sind ausreichend vorhanden. \nLeitung: Michael Teufel\, Trauerbegleiter\nTeilnehmerzahl: max. 12 | min. 6 \nAnmeldung: unter Telefon 0202 . 4305 124 oder per Mail hospizdienst@diakonie-wuppertal.de\nJede*r ist willkommen. Das Angebot ist kostenfrei.
URL:https://www.hospizdienst-wuppertal.de/kalender/boule-fuer-trauernde/2026-06-25/
LOCATION:Wuppertal Waldkampfbahn\, 42327 Wuppertal\, Vereinsgelände VSTV\, Waldkampfbahn 100\, Wuppertal\, Nordrhein-Westfalen\, 42327\, Germany
CATEGORIES:Trauerworkshop
ATTACH;FMTTYPE=image/jpeg:https://www.hospizdienst-wuppertal.de/wp-content/uploads/2026/01/Boule.jpg
ORGANIZER;CN="Hospizdienst Die Pusteblume":MAILTO:hospizdienst (at) diakonie-wuppertal.de
END:VEVENT
BEGIN:VEVENT
DTSTART;TZID=Europe/Berlin:20260628T110000
DTEND;TZID=Europe/Berlin:20260628T130000
DTSTAMP:20260421T133521
CREATED:20260122T123651Z
LAST-MODIFIED:20260129T101258Z
UID:10000344-1782644400-1782651600@www.hospizdienst-wuppertal.de
SUMMARY:Fremdes Leben | Südstadt Matinée
DESCRIPTION:Eine Groteske über die letzten Fragen von Gerd Berghofer\nSzenische Lesung \nTheatermacher Thorsten Müller & Ensemble \nEin Totengräber\, der sich sein eigenes Grab schaufelte\, drei Trauergäste\, von denen zwei nicht wissen\, warum sie eigentlich bei der Beerdigung sind\, ein Bestattungsunternehmer\, der die Anwesenden mit alkoholischen Getränken zur Entscheidung für das eigene Institut zu animieren sucht – wenn das keine Groteske ist! Doch so bizarr\, wie sich diese Beerdigung darstellt\, ist sie eigentlich gar nicht… \nJede*r ist willkommen. Das Angebot ist kostenfrei. \n  \nAUSBLICK AUF 2026\nDas NetzwerkCafé öffnet 2026 schon im dritten Jahr seine Türen – für die Kultur\, für die Nachbarschaft. Egal ob von diesseits oder jenseits der Blankstraße\, ob alt oder jung: Sie sind herzlich zu unserer »Südstadt Matinée« eingeladen. Das ausgewählte Programm wechselt und ist bunt – so wie die Nachbarschaft. Gemeinsam hören wir Musik\, lassen uns eine Geschichte erzählen oder schauen einen Film. Dazu gibt es Häppchen\, Getränke und Zeit zum Plaudern mit unseren Nachbar*innen. Wir freuen uns auf Sie.
URL:https://www.hospizdienst-wuppertal.de/kalender/fremdes-leben-suedstadt-matinee/
LOCATION:NetzwerkCafé | Hospizdienst Die Pusteblume\, Blankstraße / Ecke Augustastraße\, Wuppertal\, Nordrhein-Westfalen\, 42119\, Germany
CATEGORIES:Arbeitskreis Netzwerk Südstadt,Veranstaltungen
ATTACH;FMTTYPE=image/jpeg:https://www.hospizdienst-wuppertal.de/wp-content/uploads/2026/01/Matinee_06.2026.jpg
END:VEVENT
END:VCALENDAR