BEGIN:VCALENDAR
VERSION:2.0
PRODID:-//Hospizdienst - ECPv6.15.17.1//NONSGML v1.0//EN
CALSCALE:GREGORIAN
METHOD:PUBLISH
X-ORIGINAL-URL:https://www.hospizdienst-wuppertal.de
X-WR-CALDESC:Veranstaltungen für Hospizdienst
REFRESH-INTERVAL;VALUE=DURATION:PT1H
X-Robots-Tag:noindex
X-PUBLISHED-TTL:PT1H
BEGIN:VTIMEZONE
TZID:Europe/Berlin
BEGIN:DAYLIGHT
TZOFFSETFROM:+0100
TZOFFSETTO:+0200
TZNAME:CEST
DTSTART:20250330T010000
END:DAYLIGHT
BEGIN:STANDARD
TZOFFSETFROM:+0200
TZOFFSETTO:+0100
TZNAME:CET
DTSTART:20251026T010000
END:STANDARD
BEGIN:DAYLIGHT
TZOFFSETFROM:+0100
TZOFFSETTO:+0200
TZNAME:CEST
DTSTART:20260329T010000
END:DAYLIGHT
BEGIN:STANDARD
TZOFFSETFROM:+0200
TZOFFSETTO:+0100
TZNAME:CET
DTSTART:20261025T010000
END:STANDARD
BEGIN:DAYLIGHT
TZOFFSETFROM:+0100
TZOFFSETTO:+0200
TZNAME:CEST
DTSTART:20270328T010000
END:DAYLIGHT
BEGIN:STANDARD
TZOFFSETFROM:+0200
TZOFFSETTO:+0100
TZNAME:CET
DTSTART:20271031T010000
END:STANDARD
END:VTIMEZONE
BEGIN:VEVENT
DTSTART;TZID=Europe/Berlin:20261122T160000
DTEND;TZID=Europe/Berlin:20261122T170000
DTSTAMP:20260421T234459
CREATED:20220930T115529Z
LAST-MODIFIED:20260120T150458Z
UID:10000053-1795363200-1795366800@www.hospizdienst-wuppertal.de
SUMMARY:Musik Gedenken Gedanken
DESCRIPTION:Wir laden Sie am Totensonntag herzlich zu einer Gedenkstunde in die Neue Kirche ein\, um eine Kerze zu entzünden\, Musik und Texte zu hören\, in der Stille zu verweilen. Wir bieten Ihnen Raum und Gelegenheit\, der eigenen Trauer Ausdruck zu verleihen. Wir wollen mit unserer Veranstaltung ein Zeichen des Verstehens\, der Nähe und der Solidarität mit Trauernden setzen. \nBei einer Tasse Tee oder Kaffee ist im Anschluss Gelegenheit für Gespräch und Begegnung. Erfahrene Trauerbegleiter*innen sind mit vor Ort. Wenn Sie darüber hinaus ein persönliches Gespräch wünschen\, rufen Sie uns gerne an. \nKeine Anmeldung erforderlich. Jede*r ist willkommen. Das Angebot ist kostenfrei.
URL:https://www.hospizdienst-wuppertal.de/kalender/musik-gedenken-gedanken/
LOCATION:Neue Kirche\, Sophienstraße 3 B\, Wuppertal\, Nordrhein-Westfalen\, 42103\, Deutschland
CATEGORIES:Musik Gedenken Gedanken,Trauerangebote,Veranstaltungen
ATTACH;FMTTYPE=image/jpeg:https://www.hospizdienst-wuppertal.de/wp-content/uploads/2022/09/MGG_24.jpg
ORGANIZER;CN="Hospizdienst Die Pusteblume":MAILTO:hospizdienst (at) diakonie-wuppertal.de
END:VEVENT
END:VCALENDAR