BEGIN:VCALENDAR
VERSION:2.0
PRODID:-//Hospizdienst - ECPv6.15.17.1//NONSGML v1.0//EN
CALSCALE:GREGORIAN
METHOD:PUBLISH
X-WR-CALNAME:Hospizdienst
X-ORIGINAL-URL:https://www.hospizdienst-wuppertal.de
X-WR-CALDESC:Veranstaltungen für Hospizdienst
REFRESH-INTERVAL;VALUE=DURATION:PT1H
X-Robots-Tag:noindex
X-PUBLISHED-TTL:PT1H
BEGIN:VTIMEZONE
TZID:Europe/Berlin
BEGIN:DAYLIGHT
TZOFFSETFROM:+0100
TZOFFSETTO:+0200
TZNAME:CEST
DTSTART:20250330T010000
END:DAYLIGHT
BEGIN:STANDARD
TZOFFSETFROM:+0200
TZOFFSETTO:+0100
TZNAME:CET
DTSTART:20251026T010000
END:STANDARD
BEGIN:DAYLIGHT
TZOFFSETFROM:+0100
TZOFFSETTO:+0200
TZNAME:CEST
DTSTART:20260329T010000
END:DAYLIGHT
BEGIN:STANDARD
TZOFFSETFROM:+0200
TZOFFSETTO:+0100
TZNAME:CET
DTSTART:20261025T010000
END:STANDARD
BEGIN:DAYLIGHT
TZOFFSETFROM:+0100
TZOFFSETTO:+0200
TZNAME:CEST
DTSTART:20270328T010000
END:DAYLIGHT
BEGIN:STANDARD
TZOFFSETFROM:+0200
TZOFFSETTO:+0100
TZNAME:CET
DTSTART:20271031T010000
END:STANDARD
END:VTIMEZONE
BEGIN:VEVENT
DTSTART;TZID=Europe/Berlin:20260507T100000
DTEND;TZID=Europe/Berlin:20260507T113000
DTSTAMP:20260421T132520
CREATED:20260126T122715Z
LAST-MODIFIED:20260130T134958Z
UID:10000349-1778148000-1778153400@www.hospizdienst-wuppertal.de
SUMMARY:Mitreisen zum Ende des Lebens / Infoveranstaltung
DESCRIPTION:Schwerkranke und Sterbende auf ihrem Weg begleiten.? \nSie trauen sich zu\, auf eine Reise zu gehen\, auf der Sie viel Unbekanntes erwartet? Sie wollen sich auf den Weg zu der wahrscheinlich spannendsten Reise Ihres Lebens machen? In Ihrem Reisegepäck befinden sich Mitgefühl\, Aufmerksamkeit und Verlässlichkeit.\nVor Reiseantritt packen wir gemeinsam die Koffer in einer gründlichen Ausbildung. Denn Sie begleiten schwerkranke und sterbende Menschen sowie ihre Angehörigen zu Hause\, im Krankenhaus und im Pflegeheim. Rufen Sie uns gerne an – wir freuen uns auf Sie. \nAnmeldung: unter Telefon 0202 . 4305 124 oder per Mail hospizdienst@diakonie-wuppertal.de\nJede*r ist willkommen. Das Angebot ist kostenfrei.
URL:https://www.hospizdienst-wuppertal.de/kalender/11941/2026-05-07/
LOCATION:NetzwerkCafé | Hospizdienst Die Pusteblume\, Blankstraße / Ecke Augustastraße\, Wuppertal\, Nordrhein-Westfalen\, 42119\, Germany
CATEGORIES:Vorbereitungskurs
ATTACH;FMTTYPE=image/jpeg:https://www.hospizdienst-wuppertal.de/wp-content/uploads/2026/01/Mitreisen_2.jpg
ORGANIZER;CN="Hospizdienst Die Pusteblume":MAILTO:hospizdienst (at) diakonie-wuppertal.de
END:VEVENT
END:VCALENDAR