BEGIN:VCALENDAR
VERSION:2.0
PRODID:-//Hospizdienst - ECPv6.15.17.1//NONSGML v1.0//EN
CALSCALE:GREGORIAN
METHOD:PUBLISH
X-WR-CALNAME:Hospizdienst
X-ORIGINAL-URL:https://www.hospizdienst-wuppertal.de
X-WR-CALDESC:Veranstaltungen für Hospizdienst
REFRESH-INTERVAL;VALUE=DURATION:PT1H
X-Robots-Tag:noindex
X-PUBLISHED-TTL:PT1H
BEGIN:VTIMEZONE
TZID:Europe/Berlin
BEGIN:DAYLIGHT
TZOFFSETFROM:+0100
TZOFFSETTO:+0200
TZNAME:CEST
DTSTART:20250330T010000
END:DAYLIGHT
BEGIN:STANDARD
TZOFFSETFROM:+0200
TZOFFSETTO:+0100
TZNAME:CET
DTSTART:20251026T010000
END:STANDARD
BEGIN:DAYLIGHT
TZOFFSETFROM:+0100
TZOFFSETTO:+0200
TZNAME:CEST
DTSTART:20260329T010000
END:DAYLIGHT
BEGIN:STANDARD
TZOFFSETFROM:+0200
TZOFFSETTO:+0100
TZNAME:CET
DTSTART:20261025T010000
END:STANDARD
BEGIN:DAYLIGHT
TZOFFSETFROM:+0100
TZOFFSETTO:+0200
TZNAME:CEST
DTSTART:20270328T010000
END:DAYLIGHT
BEGIN:STANDARD
TZOFFSETFROM:+0200
TZOFFSETTO:+0100
TZNAME:CET
DTSTART:20271031T010000
END:STANDARD
END:VTIMEZONE
BEGIN:VEVENT
DTSTART;TZID=Europe/Berlin:20260315T130000
DTEND;TZID=Europe/Berlin:20260315T160000
DTSTAMP:20260421T133011
CREATED:20260120T141006Z
LAST-MODIFIED:20260120T140931Z
UID:10000339-1773579600-1773590400@www.hospizdienst-wuppertal.de
SUMMARY:Trauer sehen – Achtsam durch Fotografie // Kennenlerntreffen
DESCRIPTION:Durch Fotografie zu Achtsamkeit und den eigenen Gefühlen finden.\nIm bewussten Sehen und Fotografieren entsteht Raum\, um im Hier und Jetzt zu sein – ohne jede Bewertung.\nWir entdecken kleine Momente\, beobachten\, fühlen\, schauen… und halten sie fest. Eine Woche\, fünf Impulse\, fünf Fotoaufgaben – mit Austausch und Begleitung. \nInhalt: 5 Aufgaben und gemeinsamer Austausch (in der Woche via Whatts App) \nAnmeldung: unter Telefon 0202 . 4305 124 oder per Mail hospizdienst@diakonie-wuppertal.de\nJede*r ist willkommen. Das Angebot ist kostenfrei. \nWir starten den Workshop mit einem Kennenlerntreffen am Sonntag\, den 15. März 2025\, 13 – 16 Uhr und beenden ihn am Samstag\, den 21. März 2026\, 11 – 14 Uhr.\nOrt: NetzwerkCafé · Hospizdienst »Die Pusteblume« Blankstraße 41 · Wuppertal \nBegleitung durch: Renate Materne-Polti\, Trauerbegleiterin; Claudia Ellmer\, Trauerbegleiterin; Miriam Preuß\, Trauerbegleiterin BVT
URL:https://www.hospizdienst-wuppertal.de/kalender/trauer-sehen-achtsam-durch-fotografie-kennenlerntreffen/
LOCATION:NetzwerkCafé | Hospizdienst Die Pusteblume\, Blankstraße / Ecke Augustastraße\, Wuppertal\, Nordrhein-Westfalen\, 42119\, Germany
CATEGORIES:Trauerworkshop
ATTACH;FMTTYPE=image/jpeg:https://www.hospizdienst-wuppertal.de/wp-content/uploads/2026/01/TrauerSehen.jpg
END:VEVENT
END:VCALENDAR