BEGIN:VCALENDAR
VERSION:2.0
PRODID:-//Hospizdienst - ECPv6.15.17.1//NONSGML v1.0//EN
CALSCALE:GREGORIAN
METHOD:PUBLISH
X-ORIGINAL-URL:https://www.hospizdienst-wuppertal.de
X-WR-CALDESC:Veranstaltungen für Hospizdienst
REFRESH-INTERVAL;VALUE=DURATION:PT1H
X-Robots-Tag:noindex
X-PUBLISHED-TTL:PT1H
BEGIN:VTIMEZONE
TZID:Europe/Berlin
BEGIN:DAYLIGHT
TZOFFSETFROM:+0100
TZOFFSETTO:+0200
TZNAME:CEST
DTSTART:20250330T010000
END:DAYLIGHT
BEGIN:STANDARD
TZOFFSETFROM:+0200
TZOFFSETTO:+0100
TZNAME:CET
DTSTART:20251026T010000
END:STANDARD
BEGIN:DAYLIGHT
TZOFFSETFROM:+0100
TZOFFSETTO:+0200
TZNAME:CEST
DTSTART:20260329T010000
END:DAYLIGHT
BEGIN:STANDARD
TZOFFSETFROM:+0200
TZOFFSETTO:+0100
TZNAME:CET
DTSTART:20261025T010000
END:STANDARD
BEGIN:DAYLIGHT
TZOFFSETFROM:+0100
TZOFFSETTO:+0200
TZNAME:CEST
DTSTART:20270328T010000
END:DAYLIGHT
BEGIN:STANDARD
TZOFFSETFROM:+0200
TZOFFSETTO:+0100
TZNAME:CET
DTSTART:20271031T010000
END:STANDARD
END:VTIMEZONE
BEGIN:VEVENT
DTSTART;TZID=Europe/Berlin:20260207T093000
DTEND;TZID=Europe/Berlin:20260207T170000
DTSTAMP:20260421T151757
CREATED:20251031T095024Z
LAST-MODIFIED:20260116T141311Z
UID:10000247-1770456600-1770483600@www.hospizdienst-wuppertal.de
SUMMARY:Wuppertaler Thementage 2026 //  Schwerpunkt: Der eigene Tod
DESCRIPTION:// Die Veranstaltung am Samstag 7.2. ist leider ausgebucht.\nWARTELISTE:\nSollte die Veranstaltung bereits ausgebucht sein\, melden Sie sich gerne bei uns. Wir setzen Sie auf die Warteliste. \nEINE BITTE:\nWir bitten Sie herzlich darum\, dass Sie sich abmelden\, wenn Sie einen der beiden Tage oder beide Tage nicht teilnehmen können (Abmeldung bitte unter: hospizdienst@diakonie-wuppertal.de ).\nBitte sagen Sie auch kurzfristig am gleichen Tag noch ab. Dafür rufen Sie uns am besten unter folgenden Nummern an: Katharina Ruth: 0163-7973318 oder Anna Wessel: 0176-10230192.\nWir haben erfahrungsgemäß viele Menschen auf der Warteliste\, die sich freuen\, wenn sie doch noch kommen können. \nEinladung\nWir möchten Sie herzlich zu den Wuppertaler Thementagen – Unser Leben mit dem Tod einladen. Im Jahr 2026 lautet der Schwerpunkt DER EIGENE TOD.\nBei dieser Veranstaltungsreihe werden verschiedene Aspekte rund um die Themen Sterben\, Tod und Trauer beleuchtet. In der diesjährigen Veranstaltung befassen wir uns insbesondere mit dem eigenen Tod. \n\nAm Samstag\, den 06. Februar 2026 erfahren wir etwas über die häusliche Palliativversorgung\, das Sterben im Krankenhaus und den Umgang mit einer schweren Diagnose. Die Vorstellungen und Wünsche der Teilnehmenden im Hinblick auf den eigenen Tod werden auch Thema sein. Wir informieren uns darüber\, was man selbst vor dem eigenen Tod regeln kann und was Unternehmen für ihre Mitarbeitenden tun können.\nWir beschließen den Tag\, indem wir das Leben feiern.\nBegleitet wird die Veranstaltung von der Cartoonausstellung „Humor und Tod“ der Funus Stiftung.\nWir laden Sie herzlich ein\, dabei zu sein.\n\nAnmeldung für den 6. und / oder 7. Februar 2026 bevorzugt über das Formular hier auf der Website oder telefonisch: 0202 . 4305124\nAnmeldestart: 4. Januar 2026 // Anmeldeschluss: 2. Februar 2026\n \nÜber den unten stehenden QR-Code können Sie die Veranstaltung am Samstag online verfolgen.\nUnser → Flyer zur Veranstaltung (PDF). \n\nDie Veranstaltung am Samstag kann  live im Internet verfolgt werden. \nÜber den QR-Code können Sie sich  direkt einschalten.
URL:https://www.hospizdienst-wuppertal.de/kalender/wuppertaler-thementage-2026-thema-der-eigene-tod/
LOCATION:ELBA-Hallen\, Moritzstraße 14\, Wuppertal\, Nordrhein Westfalen\, 42117\, Germany
CATEGORIES:Veranstaltungen,Wuppertaler Thementage
ATTACH;FMTTYPE=image/jpeg:https://www.hospizdienst-wuppertal.de/wp-content/uploads/2025/10/Kalender_Motiv_WTT26_ausgebucht.jpg
ORGANIZER;CN="Hospizdienst Die Pusteblume":MAILTO:hospizdienst (at) diakonie-wuppertal.de
END:VEVENT
END:VCALENDAR